BEGIN:VCALENDAR
VERSION:2.0
PRODID:-//jEvents 2.0 for Joomla//EN
CALSCALE:GREGORIAN
METHOD:PUBLISH
BEGIN:VTIMEZONE
TZID:Europe/Berlin
BEGIN:STANDARD
DTSTART:20250317T160000
RDATE:20250330T030000
TZOFFSETFROM:+0200
TZOFFSETTO:+0100
TZNAME:Europe/Berlin CET
END:STANDARD
BEGIN:STANDARD
DTSTART:20251026T020000
RDATE:20260329T030000
TZOFFSETFROM:+0200
TZOFFSETTO:+0100
TZNAME:Europe/Berlin CET
END:STANDARD
BEGIN:STANDARD
DTSTART:20261025T020000
RDATE:20270328T030000
TZOFFSETFROM:+0200
TZOFFSETTO:+0100
TZNAME:Europe/Berlin CET
END:STANDARD
BEGIN:STANDARD
DTSTART:20271031T020000
RDATE:20280326T030000
TZOFFSETFROM:+0200
TZOFFSETTO:+0100
TZNAME:Europe/Berlin CET
END:STANDARD
BEGIN:STANDARD
DTSTART:20281029T020000
RDATE:20290325T030000
TZOFFSETFROM:+0200
TZOFFSETTO:+0100
TZNAME:Europe/Berlin CET
END:STANDARD
BEGIN:STANDARD
DTSTART:20291028T020000
RDATE:20300331T030000
TZOFFSETFROM:+0200
TZOFFSETTO:+0100
TZNAME:Europe/Berlin CET
END:STANDARD
BEGIN:STANDARD
DTSTART:20301027T020000
RDATE:20310330T030000
TZOFFSETFROM:+0200
TZOFFSETTO:+0100
TZNAME:Europe/Berlin CET
END:STANDARD
BEGIN:STANDARD
DTSTART:20311026T020000
RDATE:20320328T030000
TZOFFSETFROM:+0200
TZOFFSETTO:+0100
TZNAME:Europe/Berlin CET
END:STANDARD
BEGIN:DAYLIGHT
DTSTART:20250330T030000
RDATE:20251026T020000
TZOFFSETFROM:+0100
TZOFFSETTO:+0200
TZNAME:Europe/Berlin CEST
END:DAYLIGHT
BEGIN:DAYLIGHT
DTSTART:20260329T030000
RDATE:20261025T020000
TZOFFSETFROM:+0100
TZOFFSETTO:+0200
TZNAME:Europe/Berlin CEST
END:DAYLIGHT
BEGIN:DAYLIGHT
DTSTART:20270328T030000
RDATE:20271031T020000
TZOFFSETFROM:+0100
TZOFFSETTO:+0200
TZNAME:Europe/Berlin CEST
END:DAYLIGHT
BEGIN:DAYLIGHT
DTSTART:20280326T030000
RDATE:20281029T020000
TZOFFSETFROM:+0100
TZOFFSETTO:+0200
TZNAME:Europe/Berlin CEST
END:DAYLIGHT
BEGIN:DAYLIGHT
DTSTART:20290325T030000
RDATE:20291028T020000
TZOFFSETFROM:+0100
TZOFFSETTO:+0200
TZNAME:Europe/Berlin CEST
END:DAYLIGHT
BEGIN:DAYLIGHT
DTSTART:20300331T030000
RDATE:20301027T020000
TZOFFSETFROM:+0100
TZOFFSETTO:+0200
TZNAME:Europe/Berlin CEST
END:DAYLIGHT
BEGIN:DAYLIGHT
DTSTART:20310330T030000
RDATE:20311026T020000
TZOFFSETFROM:+0100
TZOFFSETTO:+0200
TZNAME:Europe/Berlin CEST
END:DAYLIGHT
END:VTIMEZONE
BEGIN:VEVENT
UID:c816b74ad68113754e643ee855034ff8
CATEGORIES:Allgemeine Informationen
CREATED:20260114T114952
SUMMARY:5. Berufs- und Studienorientierungsmesse
LOCATION:Schnaudertalhalle
DESCRIPTION:Mit über 50 Unternehmen, 4 Hochschulen und 1 Universität...\nin der Schnaud
 ertalhalle mit freiem Eintritt und kostenlose Parkplätze ...\nfür die Klass
 enstufen 8- 11 und Interessierte.\nHier findet ihr die Teilnehmerliste (ima
 ges/stories/Berufsorientierung/5.BSoM-2026/Messeaussteller_2026-1.pdf)\nFra
 gen? Diese E-Mail-Adresse ist vor Spambots geschützt! Zur Anzeige muss Java
 Script eingeschaltet sein!
				document.getElementById('cloak589757157569eb
 7e4c354cbcbe705f50').innerHTML = '';
				var prefix = '&#109;a' + 'i&#108;'
  + '&#116;o';
				var path = 'hr' + 'ef' + '=';
				var addy589757157569eb7
 e4c354cbcbe705f50 = 'm&#101;ss&#101;' + '&#64;';
				addy589757157569eb7e4c
 354cbcbe705f50 = addy589757157569eb7e4c354cbcbe705f50 + 's&#101;ck&#101;nd&
 #111;rffgym' + '&#46;' + 'd&#101;';
				var addy_text589757157569eb7e4c354c
 bcbe705f50 = 'm&#101;ss&#101;' + '&#64;' + 's&#101;ck&#101;nd&#111;rffgym' 
 + '&#46;' + 'd&#101;';document.getElementById('cloak589757157569eb7e4c354cb
 cbe705f50').innerHTML += '<a ' + path + '\'' + prefix + ':' + addy589757157
 569eb7e4c354cbcbe705f50 + '\'>'+addy_text589757157569eb7e4c354cbcbe705f50+'
 ';
		\n
X-ALT-DESC;FMTTYPE=text/html:<p>Mit über 50 Unternehmen, 4 Hochschulen und 1 Universität...</p><p>in der
  Schnaudertalhalle mit freiem Eintritt und kostenlose Parkplätze ...</p><p>
 für die Klassenstufen 8- 11 und Interessierte.</p><p>Hier findet ihr die <a
  href="https://seckendorffgym.de/images/stories/Berufsorientierung/5.BSoM-2
 026/Messeaussteller_2026-1.pdf">Teilnehmerliste</a></p><p>Fragen? <span id=
 "cloak589757157569eb7e4c354cbcbe705f50">Diese E-Mail-Adresse ist vor Spambo
 ts geschützt! Zur Anzeige muss JavaScript eingeschaltet sein!</span><script
  type='text/javascript'>
				document.getElementById('cloak589757157569eb7e
 4c354cbcbe705f50').innerHTML = '';
				var prefix = '&#109;a' + 'i&#108;' +
  '&#116;o';
				var path = 'hr' + 'ef' + '=';
				var addy589757157569eb7e4
 c354cbcbe705f50 = 'm&#101;ss&#101;' + '&#64;';
				addy589757157569eb7e4c35
 4cbcbe705f50 = addy589757157569eb7e4c354cbcbe705f50 + 's&#101;ck&#101;nd&#1
 11;rffgym' + '&#46;' + 'd&#101;';
				var addy_text589757157569eb7e4c354cbc
 be705f50 = 'm&#101;ss&#101;' + '&#64;' + 's&#101;ck&#101;nd&#111;rffgym' + 
 '&#46;' + 'd&#101;';document.getElementById('cloak589757157569eb7e4c354cbcb
 e705f50').innerHTML += '<a ' + path + '\'' + prefix + ':' + addy58975715756
 9eb7e4c354cbcbe705f50 + '\'>'+addy_text589757157569eb7e4c354cbcbe705f50+'<\
 /a>';
		</script></p>
DTSTAMP:20260420T135428
DTSTART;TZID=Europe/Berlin:20260318T160000
DTEND;TZID=Europe/Berlin:20260318T190000
SEQUENCE:0
TRANSP:OPAQUE
END:VEVENT
END:VCALENDAR