BEGIN:VCALENDAR
VERSION:2.0
PRODID:-//jEvents 2.0 for Joomla//EN
CALSCALE:GREGORIAN
METHOD:PUBLISH
BEGIN:VTIMEZONE
TZID:Europe/Berlin
BEGIN:STANDARD
DTSTART:20250210T183000
RDATE:20250330T030000
TZOFFSETFROM:+0200
TZOFFSETTO:+0100
TZNAME:Europe/Berlin CET
END:STANDARD
BEGIN:STANDARD
DTSTART:20251026T020000
RDATE:20260329T030000
TZOFFSETFROM:+0200
TZOFFSETTO:+0100
TZNAME:Europe/Berlin CET
END:STANDARD
BEGIN:STANDARD
DTSTART:20261025T020000
RDATE:20270328T030000
TZOFFSETFROM:+0200
TZOFFSETTO:+0100
TZNAME:Europe/Berlin CET
END:STANDARD
BEGIN:STANDARD
DTSTART:20271031T020000
RDATE:20280326T030000
TZOFFSETFROM:+0200
TZOFFSETTO:+0100
TZNAME:Europe/Berlin CET
END:STANDARD
BEGIN:STANDARD
DTSTART:20281029T020000
RDATE:20290325T030000
TZOFFSETFROM:+0200
TZOFFSETTO:+0100
TZNAME:Europe/Berlin CET
END:STANDARD
BEGIN:STANDARD
DTSTART:20291028T020000
RDATE:20300331T030000
TZOFFSETFROM:+0200
TZOFFSETTO:+0100
TZNAME:Europe/Berlin CET
END:STANDARD
BEGIN:STANDARD
DTSTART:20301027T020000
RDATE:20310330T030000
TZOFFSETFROM:+0200
TZOFFSETTO:+0100
TZNAME:Europe/Berlin CET
END:STANDARD
BEGIN:STANDARD
DTSTART:20311026T020000
RDATE:20320328T030000
TZOFFSETFROM:+0200
TZOFFSETTO:+0100
TZNAME:Europe/Berlin CET
END:STANDARD
BEGIN:DAYLIGHT
DTSTART:20250330T030000
RDATE:20251026T020000
TZOFFSETFROM:+0100
TZOFFSETTO:+0200
TZNAME:Europe/Berlin CEST
END:DAYLIGHT
BEGIN:DAYLIGHT
DTSTART:20260329T030000
RDATE:20261025T020000
TZOFFSETFROM:+0100
TZOFFSETTO:+0200
TZNAME:Europe/Berlin CEST
END:DAYLIGHT
BEGIN:DAYLIGHT
DTSTART:20270328T030000
RDATE:20271031T020000
TZOFFSETFROM:+0100
TZOFFSETTO:+0200
TZNAME:Europe/Berlin CEST
END:DAYLIGHT
BEGIN:DAYLIGHT
DTSTART:20280326T030000
RDATE:20281029T020000
TZOFFSETFROM:+0100
TZOFFSETTO:+0200
TZNAME:Europe/Berlin CEST
END:DAYLIGHT
BEGIN:DAYLIGHT
DTSTART:20290325T030000
RDATE:20291028T020000
TZOFFSETFROM:+0100
TZOFFSETTO:+0200
TZNAME:Europe/Berlin CEST
END:DAYLIGHT
BEGIN:DAYLIGHT
DTSTART:20300331T030000
RDATE:20301027T020000
TZOFFSETFROM:+0100
TZOFFSETTO:+0200
TZNAME:Europe/Berlin CEST
END:DAYLIGHT
BEGIN:DAYLIGHT
DTSTART:20310330T030000
RDATE:20311026T020000
TZOFFSETFROM:+0100
TZOFFSETTO:+0200
TZNAME:Europe/Berlin CEST
END:DAYLIGHT
END:VTIMEZONE
BEGIN:VEVENT
UID:b177ca2e761668a14d0ea306ee0bd1e1
CATEGORIES:Allgemeine Informationen
CREATED:20250804T183206
SUMMARY:Talenteshow
LOCATION:Haus II/ Aula
DESCRIPTION:Du singst gerne, spielst ein Instrument, tanzt, bist ein Zauberkünstler ode
 r hast andere bestaunenswerte Talente, möchtest aber nicht gleich vor einem
  riesigen Publikum auftreten?\nDann komm zu unserer Talentshow! Oder kommt 
 als Gruppe!\nDu probst selbstständig und kündigst deinen Vortrag auch selbs
 t an. Natürlich bin ich auch gerne bereit, euch in der Vorbereitung zu unte
 rstützen.\n \nUm besser planen zu können, bitte ich um sofortige Anmeldunge
 n, spätestens bis zum 24.1.2024\n(auf Zettel oder per Mail an Diese E-Mail-
 Adresse ist vor Spambots geschützt! Zur Anzeige muss JavaScript eingeschalt
 et sein!
				document.getElementById('cloak47934790ce3b67073832e799bbe8ea58
 ').innerHTML = '';
				var prefix = '&#109;a' + 'i&#108;' + '&#116;o';
				
 var path = 'hr' + 'ef' + '=';
				var addy47934790ce3b67073832e799bbe8ea58 
 = 'm.n&#117;&#101;tz&#101;l' + '&#64;';
				addy47934790ce3b67073832e799bbe
 8ea58 = addy47934790ce3b67073832e799bbe8ea58 + 's&#101;ck&#101;nd&#111;rffg
 ym' + '&#46;' + 'd&#101;';
				var addy_text47934790ce3b67073832e799bbe8ea5
 8 = 'm.n&#117;&#101;tz&#101;l' + '&#64;' + 's&#101;ck&#101;nd&#111;rffgym' 
 + '&#46;' + 'd&#101;';document.getElementById('cloak47934790ce3b67073832e79
 9bbe8ea58').innerHTML += '<a style="color: #339966;" ' + path + '\'' + pref
 ix + ':' + addy47934790ce3b67073832e799bbe8ea58 + '\' target="_top">'+addy_
 text47934790ce3b67073832e799bbe8ea58+'';
		 mit Name, Klasse, Art des Vortr
 ags, ungefähre Dauer).\nSollte der Abend nicht zu lange dauern, können auch
  noch Kurzentschlossene aufstehen und ihr Können unter Beweis stellen.\n \n
 Ich freue mich schon sehr auf eure Beiträge!\nNützel\n \nZeit geändert am 1
 1.02.2026\n
X-ALT-DESC;FMTTYPE=text/html:<p style="margin-bottom: 0cm;"><span style="font-size: 10pt;">Du singst ger
 ne, spielst ein Instrument, tanzt, bist ein Zauberkünstler oder hast andere
  bestaunenswerte Talente, möchtest aber nicht gleich vor einem riesigen Pub
 likum auftreten?</span></p><p style="margin-bottom: 0cm;"><span style="font
 -size: 10pt;">Dann komm zu unserer Talentshow! Oder kommt als Gruppe!</span
 ></p><p style="margin-bottom: 0cm;"><span style="font-size: 10pt;">Du probs
 t selbstständig und kündigst deinen Vortrag auch selbst an. Natürlich bin i
 ch auch gerne bereit, euch in der Vorbereitung zu unterstützen.</span></p><
 p style="margin-bottom: 0cm;"> </p><p style="margin-bottom: 0cm;"><span sty
 le="font-size: 10pt;">Um besser planen zu können, bitte ich um sofortige <s
 pan style="background-color: #ffffff; color: #ff0000;"><b><span style="back
 ground-position: 0% 0%; background-repeat: repeat; background-attachment: s
 croll; background-image: none; background-size: auto; background-origin: pa
 dding-box; background-clip: border-box;">Anmeldungen</span></b><span style=
 "background-position: 0% 0%; background-repeat: repeat; background-attachme
 nt: scroll; background-image: none; background-size: auto; background-origi
 n: padding-box; background-clip: border-box;">, spätestens bis zum 24.1.202
 4</span></span></span></p><p style="margin-bottom: 0cm;"><span style="font-
 size: 10pt; color: #339966;">(auf Zettel oder per Mail an <span id="cloak47
 934790ce3b67073832e799bbe8ea58">Diese E-Mail-Adresse ist vor Spambots gesch
 ützt! Zur Anzeige muss JavaScript eingeschaltet sein!</span><script type='t
 ext/javascript'>
				document.getElementById('cloak47934790ce3b67073832e799
 bbe8ea58').innerHTML = '';
				var prefix = '&#109;a' + 'i&#108;' + '&#116;
 o';
				var path = 'hr' + 'ef' + '=';
				var addy47934790ce3b67073832e799b
 be8ea58 = 'm.n&#117;&#101;tz&#101;l' + '&#64;';
				addy47934790ce3b6707383
 2e799bbe8ea58 = addy47934790ce3b67073832e799bbe8ea58 + 's&#101;ck&#101;nd&#
 111;rffgym' + '&#46;' + 'd&#101;';
				var addy_text47934790ce3b67073832e79
 9bbe8ea58 = 'm.n&#117;&#101;tz&#101;l' + '&#64;' + 's&#101;ck&#101;nd&#111;
 rffgym' + '&#46;' + 'd&#101;';document.getElementById('cloak47934790ce3b670
 73832e799bbe8ea58').innerHTML += '<a style="color: #339966;" ' + path + '\'
 ' + prefix + ':' + addy47934790ce3b67073832e799bbe8ea58 + '\' target="_top"
 >'+addy_text47934790ce3b67073832e799bbe8ea58+'<\/a>';
		</script> mit Name,
  Klasse, Art des Vortrags, ungefähre Dauer).</span></p><p style="margin-bot
 tom: 0cm;"><span style="font-size: 10pt;">Sollte der Abend nicht zu lange d
 auern, können auch noch Kurzentschlossene aufstehen und ihr Können unter Be
 weis stellen.</span></p><p style="margin-bottom: 0cm;"> </p><p style="margi
 n-bottom: 0cm;"><span style="font-size: 10pt;">Ich freue mich schon sehr au
 f eure Beiträge!</span></p><p style="margin-bottom: 0cm;"><span style="font
 -size: 10pt;">Nützel</span></p><p style="margin-bottom: 0cm;"> </p><p style
 ="margin-bottom: 0cm;"><span style="font-size: 10pt;">Zeit geändert am 11.0
 2.2026</span></p>
DTSTAMP:20260420T170818
DTSTART;TZID=Europe/Berlin:20260211T183000
SEQUENCE:0
TRANSP:OPAQUE
END:VEVENT
END:VCALENDAR