BEGIN:VCALENDAR
VERSION:2.0
PRODID:-//jEvents 2.0 for Joomla//EN
CALSCALE:GREGORIAN
METHOD:PUBLISH
BEGIN:VTIMEZONE
TZID:Europe/Berlin
BEGIN:STANDARD
DTSTART:20240302T000000
RDATE:20240331T030000
TZOFFSETFROM:+0200
TZOFFSETTO:+0100
TZNAME:Europe/Berlin CET
END:STANDARD
BEGIN:STANDARD
DTSTART:20241027T020000
RDATE:20250330T030000
TZOFFSETFROM:+0200
TZOFFSETTO:+0100
TZNAME:Europe/Berlin CET
END:STANDARD
BEGIN:STANDARD
DTSTART:20251026T020000
RDATE:20260329T030000
TZOFFSETFROM:+0200
TZOFFSETTO:+0100
TZNAME:Europe/Berlin CET
END:STANDARD
BEGIN:STANDARD
DTSTART:20261025T020000
RDATE:20270328T030000
TZOFFSETFROM:+0200
TZOFFSETTO:+0100
TZNAME:Europe/Berlin CET
END:STANDARD
BEGIN:STANDARD
DTSTART:20271031T020000
RDATE:20280326T030000
TZOFFSETFROM:+0200
TZOFFSETTO:+0100
TZNAME:Europe/Berlin CET
END:STANDARD
BEGIN:STANDARD
DTSTART:20281029T020000
RDATE:20290325T030000
TZOFFSETFROM:+0200
TZOFFSETTO:+0100
TZNAME:Europe/Berlin CET
END:STANDARD
BEGIN:STANDARD
DTSTART:20291028T020000
RDATE:20300331T030000
TZOFFSETFROM:+0200
TZOFFSETTO:+0100
TZNAME:Europe/Berlin CET
END:STANDARD
BEGIN:STANDARD
DTSTART:20301027T020000
RDATE:20310330T030000
TZOFFSETFROM:+0200
TZOFFSETTO:+0100
TZNAME:Europe/Berlin CET
END:STANDARD
BEGIN:STANDARD
DTSTART:20311026T020000
RDATE:20320328T030000
TZOFFSETFROM:+0200
TZOFFSETTO:+0100
TZNAME:Europe/Berlin CET
END:STANDARD
BEGIN:DAYLIGHT
DTSTART:20240331T030000
RDATE:20241027T020000
TZOFFSETFROM:+0100
TZOFFSETTO:+0200
TZNAME:Europe/Berlin CEST
END:DAYLIGHT
BEGIN:DAYLIGHT
DTSTART:20250330T030000
RDATE:20251026T020000
TZOFFSETFROM:+0100
TZOFFSETTO:+0200
TZNAME:Europe/Berlin CEST
END:DAYLIGHT
BEGIN:DAYLIGHT
DTSTART:20260329T030000
RDATE:20261025T020000
TZOFFSETFROM:+0100
TZOFFSETTO:+0200
TZNAME:Europe/Berlin CEST
END:DAYLIGHT
BEGIN:DAYLIGHT
DTSTART:20270328T030000
RDATE:20271031T020000
TZOFFSETFROM:+0100
TZOFFSETTO:+0200
TZNAME:Europe/Berlin CEST
END:DAYLIGHT
BEGIN:DAYLIGHT
DTSTART:20280326T030000
RDATE:20281029T020000
TZOFFSETFROM:+0100
TZOFFSETTO:+0200
TZNAME:Europe/Berlin CEST
END:DAYLIGHT
BEGIN:DAYLIGHT
DTSTART:20290325T030000
RDATE:20291028T020000
TZOFFSETFROM:+0100
TZOFFSETTO:+0200
TZNAME:Europe/Berlin CEST
END:DAYLIGHT
BEGIN:DAYLIGHT
DTSTART:20300331T030000
RDATE:20301027T020000
TZOFFSETFROM:+0100
TZOFFSETTO:+0200
TZNAME:Europe/Berlin CEST
END:DAYLIGHT
BEGIN:DAYLIGHT
DTSTART:20310330T030000
RDATE:20311026T020000
TZOFFSETFROM:+0100
TZOFFSETTO:+0200
TZNAME:Europe/Berlin CEST
END:DAYLIGHT
END:VTIMEZONE
BEGIN:VEVENT
UID:5396ee5ab7d6500b88bfdb53ee641b6f
CATEGORIES:Allgemeine Informationen
CREATED:20230905T111822
SUMMARY:Neuanmeldung 5. Klasse
DESCRIPTION:Neuanmeldung Termine: 03.03.- 08.03.2025 \nfür Schülerinnen und Schüler der
 \n\n - Grundschulen,\n - Regelschulen Klasse 5, 6 und 10,\n - Gemeinschafts
 schulenPersönliche Anmeldung:\n\nMontag         7.00 – 16:00 Uhr\nDienstag 
       7.00 – 18.00 Uhr\nMittwoch       7.00 – 16.00 Uhr\nDonnerstag   7.00 
 – 16:00 Uhr\nFreitag          7.00 – 14.00 Uhr\nSamstag      10.00 – 11.00 
 Uhr\nDie benötigten Unterlagen finden Sie in den Anlagen als Formulare, wel
 che Sie am Computer oder handschriftlich ausfüllen können.\nBitte beachten 
 Sie:\nDie Anmeldung ist nur an einem Gymnasium möglich. \n\nAnlagen:\n(1) S
 chülerdaten Erfassungsbogen Neuaufnahme V3.pdf\n(2) Erfassung Schülerdaten 
 (images/stories/Neuanmeldung/2025/2_Erfassung_Schlerdaten.pdf)\n(3) Dokumen
 tation zum Masernschutz (images/stories/Neuanmeldung/2025/3_Erfassungsbogen
 _Impfstatus_Masern_Schler_Stand_02032020.pdf)\n(4) Datenschutz (images/stor
 ies/Neuanmeldung/2025/4_Datenschutz.pdf)\n \n(5) Antrag Schülerbeförderung 
 (images/stories/Neuanmeldung/2025/5_Antrag-auf-Schuelerbefoerderung.pdf)\n(
 6) Antrag_Chipkarte_und_Datenschutzerklärung_Schüler_innen_BLK (images/stor
 ies/Neuanmeldung/2025/6_Antrag_Chipkarte_und_Datenschutzerklrung_BLK.pdf)\n
  \n(7) Merkblatt_zur_Erhebung_von_personenbezogenen_Daten (images/stories/N
 euanmeldung/2025/7_Merkblatt_zur_Erhebung_von_personenbezogenen_Daten.pdf)\
 n(8) Einladung Elternversammlung 11.06.2025\n \n[Anlagen (1) bis (4) sowie 
 bei Bedarf (5) bzw. (6)  zur Anmeldung mitbringen]\nWeitere benötigte Dokum
 ente der bisherigen Schule:  \n\n - Zeugniskopie des Halbjahres 2024/25 (be
 i Anmeldung Vorlage im Original)\n - Nachweis zum Masernschutz (Impfausweis
 )Für Rückfragen können Sie uns gern telefonisch kontaktieren. Telefon: 0344
 8-75140\nWir freuen uns auf die Anmeldung Ihres Kindes an unserem Gymnasium
 .\n\n \nM. Nützel\nStellvertretende Schulleiterin\n\n \n
X-ALT-DESC;FMTTYPE=text/html:<p><span style="color: #ff0000;">Neuanmeldung Termine: 03.03.- 08.03.2025 <
 /span></p><p>für Schülerinnen und Schüler der</p><ul><li>Grundschulen,</li>
 <li>Regelschulen Klasse 5, 6 und 10,</li><li>Gemeinschaftsschulen</li></ul>
 <p><strong>Persönliche Anmeldung:</strong></p><p><br />Montag         7.00 
 – 16:00 Uhr<br />Dienstag       7.00 – 18.00 Uhr<br />Mittwoch       7.00 –
  16.00 Uhr</p><p>Donnerstag   7.00 – 16:00 Uhr<br />Freitag          7.00 –
  14.00 Uhr<br />Samstag      10.00 – 11.00 Uhr</p><hr id="system-readmore" 
 /><p>Die <strong>benötigten Unterlagen</strong> finden Sie in den Anlagen a
 ls Formulare, welche Sie am Computer oder handschriftlich ausfüllen können.
 </p><p style="line-height: 100%; margin-bottom: 0.26cm;"><span style="color
 : #333333;"><b>Bitte beachten Sie:</b></span></p><p style="line-height: 100
 %; margin-bottom: 0.26cm;"><span style="color: #333333;"><b>Die Anmeldung i
 st nur an </b></span><span style="color: #333333;"><i><b>einem</b></i></spa
 n><span style="color: #333333;"><b> Gymnasium möglich. <br /></b></span></p
 ><p>Anlagen:</p><p><a href="https://seckendorffgym.de/images/stories/Neuanm
 eldung/2025/1_SchlerdatenErfassungsbogen_Neuaufnahme_V3.pdf" target="_blank
 " rel="noopener noreferrer">(1) Schülerdaten Erfassungsbogen Neuaufnahme V3
 .pdf</a></p><p><a href="https://seckendorffgym.de/images/stories/Neuanmeldu
 ng/2025/2_Erfassung_Schlerdaten.pdf" target="_blank" rel="noopener noreferr
 er">(2) Erfassung Schülerdaten</a></p><p><a href="https://seckendorffgym.de
 /images/stories/Neuanmeldung/2025/3_Erfassungsbogen_Impfstatus_Masern_Schle
 r_Stand_02032020.pdf">(3) Dokumentation zum Masernschutz</a></p><p><a href=
 "https://seckendorffgym.de/images/stories/Neuanmeldung/2025/4_Datenschutz.p
 df" target="_blank" rel="noopener noreferrer">(4) Datenschutz</a></p><p> </
 p><p><a href="https://seckendorffgym.de/images/stories/Neuanmeldung/2025/5_
 Antrag-auf-Schuelerbefoerderung.pdf">(5) Antrag Schülerbeförderung</a></p><
 p><a href="https://seckendorffgym.de/images/stories/Neuanmeldung/2025/6_Ant
 rag_Chipkarte_und_Datenschutzerklrung_BLK.pdf" target="_blank" rel="noopene
 r noreferrer">(6) Antrag_Chipkarte_und_Datenschutzerklärung_Schüler_innen_B
 LK</a></p><p> </p><p><a href="https://seckendorffgym.de/images/stories/Neua
 nmeldung/2025/7_Merkblatt_zur_Erhebung_von_personenbezogenen_Daten.pdf" tar
 get="_blank" rel="noopener noreferrer">(7) Merkblatt_zur_Erhebung_von_perso
 nenbezogenen_Daten</a></p><p><a href="https://seckendorffgym.de/images/stor
 ies/Neuanmeldung/2025/8_Einladung_Elternversammlung_11062025.pdf">(8) Einla
 dung Elternversammlung 11.06.2025</a></p><p> </p><p>[Anlagen (1) bis (4) so
 wie bei Bedarf (5) bzw. (6)  zur Anmeldung mitbringen]</p><p><strong>Weiter
 e benötigte Dokumente der bisherigen Schule:  </strong></p><ul><li>Zeugnisk
 opie des Halbjahres 2024/25 (bei Anmeldung Vorlage im Original)</li><li>Nac
 hweis zum Masernschutz (Impfausweis)</li></ul><p>Für Rückfragen können Sie 
 uns gern telefonisch kontaktieren. <strong>Telefon:</strong> 03448-75140</p
 ><p>Wir freuen uns auf die Anmeldung Ihres Kindes an unserem Gymnasium.<str
 ong><br /></strong></p><p> </p><p>M. Nützel<br />Stellvertretende Schulleit
 erin</p><p><br /> </p>
DTSTAMP:20260420T221627
DTSTART;TZID=Europe/Berlin;VALUE=DATE:20250303
DTEND;TZID=Europe/Berlin;VALUE=DATE:20250309
SEQUENCE:0
TRANSP:OPAQUE
END:VEVENT
END:VCALENDAR